BEGIN:VCALENDAR
PRODID:-//eluceo/ical//2.0/EN
VERSION:2.0
CALSCALE:GREGORIAN
BEGIN:VEVENT
UID:549ab14b12fd4bea297d8d58d41e6100
DTSTAMP:20260421T120007Z
SUMMARY:August Meeting - Mittwoch\, 13. August 2014
DESCRIPTION:Sommeranlass 2014 - siehe beiliegende detaillierte Einladung\nC
 onférencier(s): Führung durch die Wasserversorgung Zürich
URL:https://iwc-zuercher-oberland.ch/fr/agenda/show/212
DTSTART;TZID=Europe/Zurich:20140813T165000
DTEND;TZID=Europe/Zurich:20140813T220000
LOCATION:Stadt Zürich Wasserversorgung Hardhof 9  8064 Zürich
CATEGORIES:Inner Wheel
END:VEVENT
BEGIN:VTIMEZONE
TZID:Europe/Zurich
BEGIN:DAYLIGHT
DTSTART:20140813T165000
TZNAME:CEST
TZOFFSETTO:+0200
TZOFFSETFROM:+0200
END:DAYLIGHT
END:VTIMEZONE
END:VCALENDAR
