BEGIN:VCALENDAR
PRODID:-//eluceo/ical//2.0/EN
VERSION:2.0
CALSCALE:GREGORIAN
BEGIN:VEVENT
UID:b57ac2b70e2d078ed225dd0b2f3f0159
DTSTAMP:20260423T204344Z
SUMMARY:Januar 2015 - Governortreffen mit IWClub Zürcher-Unterland und Zü
 rcher Oberland
DESCRIPTION:Wie im Monatsbrief Nr. 5 erwähnt\, plant Ursula Eigenmann (Gov
 ernor) ein Clubtreffen für den IWClub Unterland und IWClub Zürcher Oberl
 and. Anbei sende ich Euch ihre persönliche Einladung zu diesem gemeinsame
 n Treffen\n\nMittwoch\, 7. Januar 2015 – 18:30 Uhr im Doktorhaus\, Walli
 sellen\n\nDa dieses Treffen mit einem Abendessen verbunden ist und entspre
 chend geplant werden muss bitte ich diejenigen von Euch\, welche teilnehme
 n möchte\, sich bei mir anzumelden. Gleichzeitig bitte noch mitteilen\,\n
 \nob ihr das vegetarische- resp. das nicht vegetarische Menu wünscht.\n\n
 Anmeldung bitte bis spätestens 18. Dezember 2014 an mich.\n\nIch werden d
 ann alle Teilnehmerinnen aus unserem Club an den IWClub Zürcher Unterland
  entsprechend melden.\n\nEs wäre schön\, wenn möglichst viele aus unser
 em Club dieser Einladung folgen könnten um auch Ursula Eigenmann als dies
 jähriger Governor kennenzulernen.\n\n \nConférencier(s): Ursula Eigenma
 nn\, Governor Clubjahr 2014/2015
URL:https://iwc-zuercher-oberland.ch/fr/agenda/show/318
DTSTART;TZID=Europe/Zurich:20150107T183000
DTEND;TZID=Europe/Zurich:20150107T220000
LOCATION:Doktorhaus\, Wallisellen
CATEGORIES:Inner Wheel
END:VEVENT
BEGIN:VTIMEZONE
TZID:Europe/Zurich
BEGIN:STANDARD
DTSTART:20150107T183000
TZNAME:CET
TZOFFSETTO:+0100
TZOFFSETFROM:+0100
END:STANDARD
END:VTIMEZONE
END:VCALENDAR
