BEGIN:VCALENDAR
PRODID:-//eluceo/ical//2.0/EN
VERSION:2.0
CALSCALE:GREGORIAN
BEGIN:VEVENT
UID:8a2f78328748393770af8a258a37a4f1
DTSTAMP:20260421T123903Z
SUMMARY:Vögele Kulturzentrum und Apéro mit den Freundschaftsclubs
DESCRIPTION:Site internet: https://www.voegelekultur.ch/\nConférencier(s):
  
URL:https://iwc-zuercher-oberland.ch/fr/agenda/show/8346
DTSTART;TZID=Europe/Zurich:20260412T110000
DTEND;TZID=Europe/Zurich:20260412T140000
LOCATION:Vögele Kulturzentrum\, Gwattstrasse 14\, 8808 Pfäffikon SZ
CATEGORIES:Inner Wheel
END:VEVENT
BEGIN:VTIMEZONE
TZID:Europe/Zurich
BEGIN:DAYLIGHT
DTSTART:20260412T110000
TZNAME:CEST
TZOFFSETTO:+0200
TZOFFSETFROM:+0200
END:DAYLIGHT
END:VTIMEZONE
END:VCALENDAR
