BEGIN:VCALENDAR
PRODID:-//eluceo/ical//2.0/EN
VERSION:2.0
CALSCALE:GREGORIAN
BEGIN:VEVENT
UID:c5faf3be178d445b256b953d7d6d5d90
DTSTAMP:20260420T171158Z
SUMMARY:Swisscor/offizieller Tag - Mittwoch\, 23. Juli 2015
DESCRIPTION:swisscor Camp – medizinisches Camp\n\nBrigitta Häberling ist
  mit im Leitungsteam. Wir betreuen 80 Kinder aus Moldawien Waisen und verl
 assene Kinder aus verschiedenen Heimen
URL:https://iwc-zuercher-oberland.ch/it/agenda/show/213
DTSTART;TZID=Europe/Zurich:20140723T000000
DTEND;TZID=Europe/Zurich:20140723T000000
LOCATION:Fiesch
CATEGORIES:Inner Wheel
END:VEVENT
BEGIN:VTIMEZONE
TZID:Europe/Zurich
BEGIN:DAYLIGHT
DTSTART:20140723T000000
TZNAME:CEST
TZOFFSETTO:+0200
TZOFFSETFROM:+0200
END:DAYLIGHT
END:VTIMEZONE
END:VCALENDAR
