BEGIN:VCALENDAR
PRODID:-//eluceo/ical//2.0/EN
VERSION:2.0
CALSCALE:GREGORIAN
BEGIN:VEVENT
UID:f86ba7b04130dcd3a64b37ae079348aa
DTSTAMP:20260420T202558Z
SUMMARY:District Anlass - 19. Nationales Golfturnier - Montag\, 1. Septembe
 r 2014
DESCRIPTION:
URL:https://iwc-zuercher-oberland.ch/it/agenda/show/214
DTSTART;TZID=Europe/Zurich:20140901T000000
DTEND;TZID=Europe/Zurich:20140901T000000
LOCATION:Gruyère
CATEGORIES:Inner Wheel
END:VEVENT
BEGIN:VTIMEZONE
TZID:Europe/Zurich
BEGIN:DAYLIGHT
DTSTART:20140901T000000
TZNAME:CEST
TZOFFSETTO:+0200
TZOFFSETFROM:+0200
END:DAYLIGHT
END:VTIMEZONE
END:VCALENDAR
