BEGIN:VCALENDAR
PRODID:-//eluceo/ical//2.0/EN
VERSION:2.0
CALSCALE:GREGORIAN
BEGIN:VEVENT
UID:a4cae9f66411b0cf93e16eff90ef0184
DTSTAMP:20260419T150856Z
SUMMARY:Clubjahr 2019-2020\; Atelier Engelregenbogen in Wald
DESCRIPTION:Relatore/i: Für das Sommermeeting treffen wir uns um 18.00 Uhr
  im Atelier Engelregenbogen.
URL:https://iwc-zuercher-oberland.ch/it/agenda/show/3098
DTSTART;TZID=Europe/Zurich:20190814T180000
DTEND;TZID=Europe/Zurich:20190814T220000
LOCATION:Blumenweg 4\, 8636 Wald
CATEGORIES:Inner Wheel
END:VEVENT
BEGIN:VTIMEZONE
TZID:Europe/Zurich
BEGIN:DAYLIGHT
DTSTART:20190814T180000
TZNAME:CEST
TZOFFSETTO:+0200
TZOFFSETFROM:+0200
END:DAYLIGHT
END:VTIMEZONE
END:VCALENDAR
