BEGIN:VCALENDAR
PRODID:-//eluceo/ical//2.0/EN
VERSION:2.0
CALSCALE:GREGORIAN
BEGIN:VEVENT
UID:758cc4bb5c1850330c8c2c79bb284314
DTSTAMP:20260419T163111Z
SUMMARY:Clubjahr 2019-2020\; Lunch in Bülach mit IW Club Zürcher Unterlan
 d
DESCRIPTION:Details siehe separate Einladung.\nRelatore/i: Barbara Blanc\, 
 Governor 2019-2020
URL:https://iwc-zuercher-oberland.ch/it/agenda/show/3100
DTSTART;TZID=Europe/Zurich:20190902T103000
DTEND;TZID=Europe/Zurich:20190902T140000
LOCATION:Vetropack AG\, Schützenmattstrasse 48\, Bülach\, Sitzungszimmer 
 Forum
CATEGORIES:Inner Wheel
END:VEVENT
BEGIN:VTIMEZONE
TZID:Europe/Zurich
BEGIN:DAYLIGHT
DTSTART:20190902T103000
TZNAME:CEST
TZOFFSETTO:+0200
TZOFFSETFROM:+0200
END:DAYLIGHT
END:VTIMEZONE
END:VCALENDAR
