BEGIN:VCALENDAR
PRODID:-//eluceo/ical//2.0/EN
VERSION:2.0
CALSCALE:GREGORIAN
BEGIN:VEVENT
UID:f8086789ce6fb2ab9a296dc2ed406547
DTSTAMP:20260424T094327Z
SUMMARY:Juli Meeting - Mittwoch\, 02. Juli 2014
DESCRIPTION:Relatore/i: Barbara Amrein\, Mitglied - Vorstellung CVS "Neue H
 omepage ab 01.07.2014"
URL:https://iwc-zuercher-oberland.ch/it/agenda/show/94
DTSTART;TZID=Europe/Zurich:20140702T190000
DTEND;TZID=Europe/Zurich:20140702T220000
LOCATION:Restaurant IWAZ
CATEGORIES:Inner Wheel
END:VEVENT
BEGIN:VTIMEZONE
TZID:Europe/Zurich
BEGIN:DAYLIGHT
DTSTART:20140702T190000
TZNAME:CEST
TZOFFSETTO:+0200
TZOFFSETFROM:+0200
END:DAYLIGHT
END:VTIMEZONE
END:VCALENDAR
